BEGIN:VCALENDAR
VERSION:2.0
PRODID:-//IAAT - ECPv6.15.17.1//NONSGML v1.0//EN
CALSCALE:GREGORIAN
METHOD:PUBLISH
X-ORIGINAL-URL:https://iaat.ie
X-WR-CALDESC:Events for IAAT
REFRESH-INTERVAL;VALUE=DURATION:PT1H
X-Robots-Tag:noindex
X-PUBLISHED-TTL:PT1H
BEGIN:VTIMEZONE
TZID:UTC
BEGIN:STANDARD
TZOFFSETFROM:+0000
TZOFFSETTO:+0000
TZNAME:UTC
DTSTART:20240101T000000
END:STANDARD
END:VTIMEZONE
BEGIN:VEVENT
DTSTART;VALUE=DATE:20251126
DTEND;VALUE=DATE:20251128
DTSTAMP:20260423T201420
CREATED:20250110T155309Z
LAST-MODIFIED:20250922T094428Z
UID:4446-1764115200-1764287999@iaat.ie
SUMMARY:IAAT Annual Conference 2025
DESCRIPTION:IAAT will hold our Annual Adventure Tourism Conference in beautiful Westport\, Co. Mayo this November 26th and 27th\, with the kind support of Mayo County Council as our main event partner. \nCONFERENCE AT A GLANCE:\n2025 Conference – At a Glance – IAAT Conference 2025 \nThe following is a quick overview of this years event. Please click links for further information on specific areas\, or you can view Day 1 and Day 2 on the event homepage. \nTUESDAY 25th NOVEMBER: \n\n7pm: Early Arrivals WELCOME EVENING\nLive music\, finger food and lots of networking opportunities! Details to follow shortly\n\nWEDNESDAY 26th NOVEMBER: \n\n9.00am: Registration and Induction for Adventure Activity Participants\n10.00am: ADVENTURE ACTIVITY SHOWCASE [More Info]\nBus transfers; lunch included; advisory emails sent out closer to the date\n4.00pm: Return to Knockranny House Hotel\n5.30pm: B2B MARKETPLACE – with international & domestic buyers\, and IAAT expert partners\n7.30pm: MAYO TOURISM SHOWCASE – a premium selection of Mayo tourism [More Info]\n\nTHURSDAY 27th NOVEMBER: \n\n8.30am: Registration\n10.00am: CONFERENCE PLENARY SESSIONS – Expert presentations and panel discussions [More Info]\n12.15pm: BREAKOUT SESSIONS (choose 1 from 3 when booking)\n\nInsurance Renewal Preparation or\nAI Marketing for Our Sector or\nBenefits of Accessible Activity Tourism\n\n\n4.00pm: Conference closes with Networking session (refreshments provided)\n6.00pm: After-party (details TBC) for those staying on!\n\nFor venue accommodation\, please click HERE. \nNote: Times are currently provisional and subject to slight change. \nIf you like to speak to IAAT about any aspect of the Conference\, please email our Community Manager Mairéad McCallion || mairead.mccallion@iaat.ie
URL:https://iaat.ie/event/conference2025/
LOCATION:Westport\, Co. Mayo\, Ireland
CATEGORIES:networking
ATTACH;FMTTYPE=image/jpeg:https://iaat.ie/wp-content/uploads/2025/01/clew-bay-islands.jpeg
ORGANIZER;CN="IAAT":MAILTO:info@iaat.ie
END:VEVENT
END:VCALENDAR